BEGIN:VCALENDAR
VERSION:2.0
PRODID:-//Grove City Country Club - Golf Grove City, PA - ECPv6.15.18//NONSGML v1.0//EN
CALSCALE:GREGORIAN
METHOD:PUBLISH
X-ORIGINAL-URL:https://grovecitycountryclub.com
X-WR-CALDESC:Events for Grove City Country Club - Golf Grove City, PA
REFRESH-INTERVAL;VALUE=DURATION:PT1H
X-Robots-Tag:noindex
X-PUBLISHED-TTL:PT1H
BEGIN:VTIMEZONE
TZID:America/New_York
BEGIN:DAYLIGHT
TZOFFSETFROM:-0500
TZOFFSETTO:-0400
TZNAME:EDT
DTSTART:20250309T070000
END:DAYLIGHT
BEGIN:STANDARD
TZOFFSETFROM:-0400
TZOFFSETTO:-0500
TZNAME:EST
DTSTART:20251102T060000
END:STANDARD
BEGIN:DAYLIGHT
TZOFFSETFROM:-0500
TZOFFSETTO:-0400
TZNAME:EDT
DTSTART:20260308T070000
END:DAYLIGHT
BEGIN:STANDARD
TZOFFSETFROM:-0400
TZOFFSETTO:-0500
TZNAME:EST
DTSTART:20261101T060000
END:STANDARD
BEGIN:DAYLIGHT
TZOFFSETFROM:-0500
TZOFFSETTO:-0400
TZNAME:EDT
DTSTART:20270314T070000
END:DAYLIGHT
BEGIN:STANDARD
TZOFFSETFROM:-0400
TZOFFSETTO:-0500
TZNAME:EST
DTSTART:20271107T060000
END:STANDARD
END:VTIMEZONE
BEGIN:VEVENT
DTSTART;TZID=America/New_York:20260425T100000
DTEND;TZID=America/New_York:20260425T150000
DTSTAMP:20260423T154555
CREATED:20260331T133740Z
LAST-MODIFIED:20260401T140030Z
UID:5537-1777111200-1777129200@grovecitycountryclub.com
SUMMARY:MEN’S OPENING DAY SCRAMBLE – 10AM GUN
DESCRIPTION:COST $70/PLAYER Includes Breakfast\, Skills\, Skins\nThis event is a Modified Best Ball\, Best 1 of 4 (Par 5)\, 2 of 4 (Par 4)\, 3 of 4 (Par 3)\nThis event is played at 90% handicap. It is an “ABCD” player format. Members sign up\nindividually and the golf shop creates the teams.
URL:https://grovecitycountryclub.com/event/mens-opening-day-scramble-10am-gun/
CATEGORIES:Men's
END:VEVENT
END:VCALENDAR