BEGIN:VCALENDAR
VERSION:2.0
PRODID:-//Grove City Country Club - Golf Grove City, PA - ECPv6.15.18//NONSGML v1.0//EN
CALSCALE:GREGORIAN
METHOD:PUBLISH
X-ORIGINAL-URL:https://grovecitycountryclub.com
X-WR-CALDESC:Events for Grove City Country Club - Golf Grove City, PA
REFRESH-INTERVAL;VALUE=DURATION:PT1H
X-Robots-Tag:noindex
X-PUBLISHED-TTL:PT1H
BEGIN:VTIMEZONE
TZID:America/New_York
BEGIN:DAYLIGHT
TZOFFSETFROM:-0500
TZOFFSETTO:-0400
TZNAME:EDT
DTSTART:20250309T070000
END:DAYLIGHT
BEGIN:STANDARD
TZOFFSETFROM:-0400
TZOFFSETTO:-0500
TZNAME:EST
DTSTART:20251102T060000
END:STANDARD
BEGIN:DAYLIGHT
TZOFFSETFROM:-0500
TZOFFSETTO:-0400
TZNAME:EDT
DTSTART:20260308T070000
END:DAYLIGHT
BEGIN:STANDARD
TZOFFSETFROM:-0400
TZOFFSETTO:-0500
TZNAME:EST
DTSTART:20261101T060000
END:STANDARD
BEGIN:DAYLIGHT
TZOFFSETFROM:-0500
TZOFFSETTO:-0400
TZNAME:EDT
DTSTART:20270314T070000
END:DAYLIGHT
BEGIN:STANDARD
TZOFFSETFROM:-0400
TZOFFSETTO:-0500
TZNAME:EST
DTSTART:20271107T060000
END:STANDARD
END:VTIMEZONE
BEGIN:VEVENT
DTSTART;TZID=America/New_York:20260908T130000
DTEND;TZID=America/New_York:20260908T180000
DTSTAMP:20260423T220009
CREATED:20260406T205858Z
LAST-MODIFIED:20260406T205858Z
UID:5637-1788872400-1788890400@grovecitycountryclub.com
SUMMARY:GC BOYS HIGH SCHOOL MATCH – 1PM GUN
DESCRIPTION:
URL:https://grovecitycountryclub.com/event/gc-boys-high-school-match-1pm-gun/
CATEGORIES:External
END:VEVENT
BEGIN:VEVENT
DTSTART;TZID=America/New_York:20260914T120000
DTEND;TZID=America/New_York:20260914T170000
DTSTAMP:20260423T220009
CREATED:20260406T210437Z
LAST-MODIFIED:20260406T210437Z
UID:5645-1789387200-1789405200@grovecitycountryclub.com
SUMMARY:WEST PENN WOMEN’S TRIPLE SIXES
DESCRIPTION:
URL:https://grovecitycountryclub.com/event/west-penn-womens-triple-sixes/
CATEGORIES:External
END:VEVENT
BEGIN:VEVENT
DTSTART;TZID=America/New_York:20260916T130000
DTEND;TZID=America/New_York:20260916T180000
DTSTAMP:20260423T220009
CREATED:20260406T210517Z
LAST-MODIFIED:20260406T210517Z
UID:5647-1789563600-1789581600@grovecitycountryclub.com
SUMMARY:GROVE CITY CHAMBER OUTING – 1PM GUN (non GCCC event)
DESCRIPTION:
URL:https://grovecitycountryclub.com/event/grove-city-chamber-outing-1pm-gun-non-gccc-event/
CATEGORIES:External
END:VEVENT
END:VCALENDAR