BEGIN:VCALENDAR
VERSION:2.0
PRODID:-//Grove City Country Club - Golf Grove City, PA - ECPv6.15.18//NONSGML v1.0//EN
CALSCALE:GREGORIAN
METHOD:PUBLISH
X-ORIGINAL-URL:https://grovecitycountryclub.com
X-WR-CALDESC:Events for Grove City Country Club - Golf Grove City, PA
REFRESH-INTERVAL;VALUE=DURATION:PT1H
X-Robots-Tag:noindex
X-PUBLISHED-TTL:PT1H
BEGIN:VTIMEZONE
TZID:America/New_York
BEGIN:DAYLIGHT
TZOFFSETFROM:-0500
TZOFFSETTO:-0400
TZNAME:EDT
DTSTART:20250309T070000
END:DAYLIGHT
BEGIN:STANDARD
TZOFFSETFROM:-0400
TZOFFSETTO:-0500
TZNAME:EST
DTSTART:20251102T060000
END:STANDARD
BEGIN:DAYLIGHT
TZOFFSETFROM:-0500
TZOFFSETTO:-0400
TZNAME:EDT
DTSTART:20260308T070000
END:DAYLIGHT
BEGIN:STANDARD
TZOFFSETFROM:-0400
TZOFFSETTO:-0500
TZNAME:EST
DTSTART:20261101T060000
END:STANDARD
BEGIN:DAYLIGHT
TZOFFSETFROM:-0500
TZOFFSETTO:-0400
TZNAME:EDT
DTSTART:20270314T070000
END:DAYLIGHT
BEGIN:STANDARD
TZOFFSETFROM:-0400
TZOFFSETTO:-0500
TZNAME:EST
DTSTART:20271107T060000
END:STANDARD
END:VTIMEZONE
BEGIN:VEVENT
DTSTART;TZID=America/New_York:20260420T130000
DTEND;TZID=America/New_York:20260420T170000
DTSTAMP:20260423T144947
CREATED:20260331T133706Z
LAST-MODIFIED:20260331T134142Z
UID:5535-1776690000-1776704400@grovecitycountryclub.com
SUMMARY:GC COLLEGE MEN’S TOURNAMENT – 1PM GUN (non GCCC event)
DESCRIPTION:
URL:https://grovecitycountryclub.com/event/gc-college-mens-tournament-1pm-gun-non-gccc-event/
CATEGORIES:External
END:VEVENT
BEGIN:VEVENT
DTSTART;TZID=America/New_York:20260323T130000
DTEND;TZID=America/New_York:20260323T173000
DTSTAMP:20260423T144947
CREATED:20260316T134159Z
LAST-MODIFIED:20260331T134208Z
UID:5529-1774270800-1774287000@grovecitycountryclub.com
SUMMARY:GC COLLEGE WOMEN’S TOURNAMENT (non-GCCC event)
DESCRIPTION:Grove City College women’s tournament
URL:https://grovecitycountryclub.com/event/gc-college-womens-tournament-non-gccc-event/
CATEGORIES:External
END:VEVENT
END:VCALENDAR