BEGIN:VCALENDAR
VERSION:2.0
PRODID:-//Grove City Country Club - Golf Grove City, PA - ECPv6.15.18//NONSGML v1.0//EN
CALSCALE:GREGORIAN
METHOD:PUBLISH
X-WR-CALNAME:Grove City Country Club - Golf Grove City, PA
X-ORIGINAL-URL:https://grovecitycountryclub.com
X-WR-CALDESC:Events for Grove City Country Club - Golf Grove City, PA
REFRESH-INTERVAL;VALUE=DURATION:PT1H
X-Robots-Tag:noindex
X-PUBLISHED-TTL:PT1H
BEGIN:VTIMEZONE
TZID:America/New_York
BEGIN:DAYLIGHT
TZOFFSETFROM:-0500
TZOFFSETTO:-0400
TZNAME:EDT
DTSTART:20250309T070000
END:DAYLIGHT
BEGIN:STANDARD
TZOFFSETFROM:-0400
TZOFFSETTO:-0500
TZNAME:EST
DTSTART:20251102T060000
END:STANDARD
BEGIN:DAYLIGHT
TZOFFSETFROM:-0500
TZOFFSETTO:-0400
TZNAME:EDT
DTSTART:20260308T070000
END:DAYLIGHT
BEGIN:STANDARD
TZOFFSETFROM:-0400
TZOFFSETTO:-0500
TZNAME:EST
DTSTART:20261101T060000
END:STANDARD
BEGIN:DAYLIGHT
TZOFFSETFROM:-0500
TZOFFSETTO:-0400
TZNAME:EDT
DTSTART:20270314T070000
END:DAYLIGHT
BEGIN:STANDARD
TZOFFSETFROM:-0400
TZOFFSETTO:-0500
TZNAME:EST
DTSTART:20271107T060000
END:STANDARD
END:VTIMEZONE
BEGIN:VEVENT
DTSTART;TZID=America/New_York:20260801T080000
DTEND;TZID=America/New_York:20260801T080000
DTSTAMP:20260423T202215
CREATED:20260406T205049Z
LAST-MODIFIED:20260406T205049Z
UID:5619-1785571200-1785571200@grovecitycountryclub.com
SUMMARY:COUPLES 18 & DINE
DESCRIPTION:
URL:https://grovecitycountryclub.com/event/couples-18-dine/
CATEGORIES:LGA,Men's,Social
END:VEVENT
BEGIN:VEVENT
DTSTART;TZID=America/New_York:20260804T090000
DTEND;TZID=America/New_York:20260804T130000
DTSTAMP:20260423T202215
CREATED:20260406T205136Z
LAST-MODIFIED:20260406T205136Z
UID:5621-1785834000-1785848400@grovecitycountryclub.com
SUMMARY:LADIES INVITATIONAL - 9AM GUN
DESCRIPTION:
URL:https://grovecitycountryclub.com/event/ladies-invitational-9am-gun/
CATEGORIES:LGA
END:VEVENT
BEGIN:VEVENT
DTSTART;VALUE=DATE:20260810
DTEND;VALUE=DATE:20260813
DTSTAMP:20260423T202215
CREATED:20260406T205403Z
LAST-MODIFIED:20260406T205403Z
UID:5627-1786320000-1786579199@grovecitycountryclub.com
SUMMARY:GREEN AERATION – COURSE CLOSED
DESCRIPTION:
URL:https://grovecitycountryclub.com/event/green-aeration-course-closed/
CATEGORIES:LGA,Men's,Social
END:VEVENT
BEGIN:VEVENT
DTSTART;TZID=America/New_York:20260822T140000
DTEND;TZID=America/New_York:20260822T190000
DTSTAMP:20260423T202215
CREATED:20260406T205506Z
LAST-MODIFIED:20260406T205506Z
UID:5629-1787407200-1787425200@grovecitycountryclub.com
SUMMARY:RED WHITE BLUE GOLD – 2PM SHOTGUN (Caribbean Party afterwards)
DESCRIPTION:COST $20 Includes Skills\, Optional Skins\nRED WHITE BLUE GOLD – 2 PM SHOTGUN\nThis is a team event. Best 2 of 4 (Net 100% Handicap). Pick your own team. You need one lady\nto play red tees\, one senior eligible to play gold tees\, and two other players to play the blue and\nwhite tees.
URL:https://grovecitycountryclub.com/event/red-white-blue-gold-2pm-shotgun-caribbean-party-afterwards/
CATEGORIES:LGA,Men's,Social
END:VEVENT
BEGIN:VEVENT
DTSTART;TZID=America/New_York:20260829T080000
DTEND;TZID=America/New_York:20260829T080000
DTSTAMP:20260423T202215
CREATED:20260406T205557Z
LAST-MODIFIED:20260406T205557Z
UID:5631-1787990400-1787990400@grovecitycountryclub.com
SUMMARY:COUPLES CHAMPIONSHIP
DESCRIPTION:
URL:https://grovecitycountryclub.com/event/couples-championship/
CATEGORIES:LGA,Men's
END:VEVENT
BEGIN:VEVENT
DTSTART;TZID=America/New_York:20260906T080000
DTEND;TZID=America/New_York:20260906T080000
DTSTAMP:20260423T202215
CREATED:20260406T205753Z
LAST-MODIFIED:20260406T205753Z
UID:5635-1788681600-1788681600@grovecitycountryclub.com
SUMMARY:SPUMONI CUP - Tee Times
DESCRIPTION:COST $120/PLAYER Includes Food\, Alcohol\, Skills\, and Skins\nThis is an individual stroke play event split into 4 flights. This is a “Net” only event at 100%\nhandicap. Both ladies and men can play in this event. Members will make their own tee time\,\nmust tee off before 1 PM.
URL:https://grovecitycountryclub.com/event/spumoni-cup-tee-times/
CATEGORIES:LGA,Men's,Social
END:VEVENT
BEGIN:VEVENT
DTSTART;TZID=America/New_York:20260910T100000
DTEND;TZID=America/New_York:20260910T170000
DTSTAMP:20260423T202215
CREATED:20260406T210223Z
LAST-MODIFIED:20260406T210223Z
UID:5639-1789034400-1789059600@grovecitycountryclub.com
SUMMARY:LGA CLOSING DAY w/ DINNER
DESCRIPTION:
URL:https://grovecitycountryclub.com/event/lga-closing-day-w-dinner/
CATEGORIES:LGA,Social
END:VEVENT
BEGIN:VEVENT
DTSTART;TZID=America/New_York:20260912T080000
DTEND;TZID=America/New_York:20260912T170000
DTSTAMP:20260423T202215
CREATED:20260406T210331Z
LAST-MODIFIED:20260406T210331Z
UID:5641-1789200000-1789232400@grovecitycountryclub.com
SUMMARY:MEGA CLUB CHAMPIONSHIP DAY 1 (MEN/WOMEN/SENIORS/JUNIORS)
DESCRIPTION:
URL:https://grovecitycountryclub.com/event/mega-club-championship-day-1-men-women-seniors-juniors/
CATEGORIES:LGA,Men's
END:VEVENT
BEGIN:VEVENT
DTSTART;TZID=America/New_York:20260913T080000
DTEND;TZID=America/New_York:20260913T170000
DTSTAMP:20260423T202215
CREATED:20260406T210401Z
LAST-MODIFIED:20260406T210401Z
UID:5643-1789286400-1789318800@grovecitycountryclub.com
SUMMARY:MEGA CLUB CHAMPIONSHIP DAY 2 (MEN/WOMEN/SENIORS/JUNIORS)
DESCRIPTION:
URL:https://grovecitycountryclub.com/event/mega-club-championship-day-2-men-women-seniors-juniors/
CATEGORIES:LGA,Men's
END:VEVENT
BEGIN:VEVENT
DTSTART;TZID=America/New_York:20260924T210000
DTEND;TZID=America/New_York:20260924T230000
DTSTAMP:20260423T202215
CREATED:20260406T210728Z
LAST-MODIFIED:20260406T210728Z
UID:5651-1790283600-1790290800@grovecitycountryclub.com
SUMMARY:NIGHT GOLF – 9 HOLE SHOTGUN – ALL HOLES PAR 3s
DESCRIPTION:
URL:https://grovecitycountryclub.com/event/night-golf-9-hole-shotgun-all-holes-par-3s/
CATEGORIES:LGA,Men's,Social
END:VEVENT
BEGIN:VEVENT
DTSTART;TZID=America/New_York:20260926T080000
DTEND;TZID=America/New_York:20260926T080000
DTSTAMP:20260423T202215
CREATED:20260406T202106Z
LAST-MODIFIED:20260406T203625Z
UID:5582-1790409600-1790409600@grovecitycountryclub.com
SUMMARY:TWO DAY RINGER EVENT – TEE TIMES
DESCRIPTION:COST TBD which will include cash prizes\, skins\, and Lunch.\nBest ball on each hole over two days. You can play with whomever you like (i.e. no restrictions\non previous partners). Event Open to men/women or mixed.
URL:https://grovecitycountryclub.com/event/two-day-ringer-event-tee-times/
CATEGORIES:LGA,Men's
END:VEVENT
BEGIN:VEVENT
DTSTART;TZID=America/New_York:20260927T080000
DTEND;TZID=America/New_York:20260927T080000
DTSTAMP:20260423T202215
CREATED:20260406T202147Z
LAST-MODIFIED:20260406T203701Z
UID:5584-1790496000-1790496000@grovecitycountryclub.com
SUMMARY:TWO DAY RINGER EVENT – TEE TIMES
DESCRIPTION:COST TBD which will include cash prizes\, skins\, and Lunch.\nBest ball on each hole over two days. You can play with whomever you like (i.e. no restrictions\non previous partners). Event Open to men/women or mixed.
URL:https://grovecitycountryclub.com/event/two-day-ringer-event-tee-times-2/
CATEGORIES:LGA,Men's
END:VEVENT
END:VCALENDAR