BEGIN:VCALENDAR
VERSION:2.0
PRODID:-//Grove City Country Club - Golf Grove City, PA - ECPv6.15.18//NONSGML v1.0//EN
CALSCALE:GREGORIAN
METHOD:PUBLISH
X-WR-CALNAME:Grove City Country Club - Golf Grove City, PA
X-ORIGINAL-URL:https://grovecitycountryclub.com
X-WR-CALDESC:Events for Grove City Country Club - Golf Grove City, PA
REFRESH-INTERVAL;VALUE=DURATION:PT1H
X-Robots-Tag:noindex
X-PUBLISHED-TTL:PT1H
BEGIN:VTIMEZONE
TZID:America/New_York
BEGIN:DAYLIGHT
TZOFFSETFROM:-0500
TZOFFSETTO:-0400
TZNAME:EDT
DTSTART:20250309T070000
END:DAYLIGHT
BEGIN:STANDARD
TZOFFSETFROM:-0400
TZOFFSETTO:-0500
TZNAME:EST
DTSTART:20251102T060000
END:STANDARD
BEGIN:DAYLIGHT
TZOFFSETFROM:-0500
TZOFFSETTO:-0400
TZNAME:EDT
DTSTART:20260308T070000
END:DAYLIGHT
BEGIN:STANDARD
TZOFFSETFROM:-0400
TZOFFSETTO:-0500
TZNAME:EST
DTSTART:20261101T060000
END:STANDARD
BEGIN:DAYLIGHT
TZOFFSETFROM:-0500
TZOFFSETTO:-0400
TZNAME:EDT
DTSTART:20270314T070000
END:DAYLIGHT
BEGIN:STANDARD
TZOFFSETFROM:-0400
TZOFFSETTO:-0500
TZNAME:EST
DTSTART:20271107T060000
END:STANDARD
END:VTIMEZONE
BEGIN:VEVENT
DTSTART;TZID=America/New_York:20260505T174500
DTEND;TZID=America/New_York:20260505T200000
DTSTAMP:20260423T154726
CREATED:20260401T131601Z
LAST-MODIFIED:20260401T134818Z
UID:5559-1778003100-1778011200@grovecitycountryclub.com
SUMMARY:MEN’S TUESDAY NIGHT 9 HOLE LEAGUE BEGINS - 5:45pm Shot Gun
DESCRIPTION:
URL:https://grovecitycountryclub.com/event/mens-tuesday-night-9-hole-league-begins-545pm-shot-gun/
CATEGORIES:Men's
END:VEVENT
BEGIN:VEVENT
DTSTART;TZID=America/New_York:20260509T080000
DTEND;TZID=America/New_York:20260509T130000
DTSTAMP:20260423T154726
CREATED:20260401T131642Z
LAST-MODIFIED:20260401T140150Z
UID:5561-1778313600-1778331600@grovecitycountryclub.com
SUMMARY:MEN’S ONE DAY MEMBER/MEMBER
DESCRIPTION:COST $90/PLAYER includes Lunch\, Skills\, Skins\nThis event is a 2 Man Best Ball event. Payouts for Best Front\, Best Back\, and Overall. This event\nyou pick your own partner and sign up for a tee time. Must be a different partner than the Two-\nDay Member/Member in August.
URL:https://grovecitycountryclub.com/event/mens-one-day-member-member/
CATEGORIES:Men's
END:VEVENT
BEGIN:VEVENT
DTSTART;TZID=America/New_York:20260515T170000
DTEND;TZID=America/New_York:20260515T200000
DTSTAMP:20260423T154726
CREATED:20260401T132331Z
LAST-MODIFIED:20260401T134855Z
UID:5565-1778864400-1778875200@grovecitycountryclub.com
SUMMARY:COUPLES NINE & DINE
DESCRIPTION:
URL:https://grovecitycountryclub.com/event/couples-nine-dine/
CATEGORIES:LGA,Men's,Social
END:VEVENT
BEGIN:VEVENT
DTSTART;TZID=America/New_York:20260523T080000
DTEND;TZID=America/New_York:20260523T080000
DTSTAMP:20260423T154726
CREATED:20260401T132539Z
LAST-MODIFIED:20260401T141827Z
UID:5569-1779523200-1779523200@grovecitycountryclub.com
SUMMARY:MEN’S RYDER CUP OUTING – TEE TIMES
DESCRIPTION:COST $125/player\nThis is a 27-hole event played in one day. Players will sign up individually and teams will be\npicked by 2 team captains. Prize pot will be split between match winners and overall winning\nteam. 9 holes 2-man Best Ball.\, 9 holes 2-man Alternate Shot@ 25% combined\, 9 Individual\nMatch
URL:https://grovecitycountryclub.com/event/mens-ryder-cup-outing-tee-times/
CATEGORIES:Men's
END:VEVENT
BEGIN:VEVENT
DTSTART;TZID=America/New_York:20260524T080000
DTEND;TZID=America/New_York:20260524T080000
DTSTAMP:20260423T154726
CREATED:20260401T132639Z
LAST-MODIFIED:20260401T141759Z
UID:5571-1779609600-1779609600@grovecitycountryclub.com
SUMMARY:PRESIDENTS CUP EVENT (1 SCORE NET EVENT\, $20 PER ENTRY)
DESCRIPTION:COST $20/Entry\nThis is an individual event for anyone who plays on holiday weekend. This is a 18-hole stroke\nplay event at 100% handicap. This event the member makes their own tee time (Saturday\,\nSunday\, and Monday before Noon). May enter for $20 each round played.
URL:https://grovecitycountryclub.com/event/presidents-cup-event-1-score-net-event-20-per-entry/
CATEGORIES:Men's
END:VEVENT
END:VCALENDAR