BEGIN:VCALENDAR
VERSION:2.0
PRODID:-//Grove City Country Club - Golf Grove City, PA - ECPv6.15.18//NONSGML v1.0//EN
CALSCALE:GREGORIAN
METHOD:PUBLISH
X-WR-CALNAME:Grove City Country Club - Golf Grove City, PA
X-ORIGINAL-URL:https://grovecitycountryclub.com
X-WR-CALDESC:Events for Grove City Country Club - Golf Grove City, PA
REFRESH-INTERVAL;VALUE=DURATION:PT1H
X-Robots-Tag:noindex
X-PUBLISHED-TTL:PT1H
BEGIN:VTIMEZONE
TZID:America/New_York
BEGIN:DAYLIGHT
TZOFFSETFROM:-0500
TZOFFSETTO:-0400
TZNAME:EDT
DTSTART:20250309T070000
END:DAYLIGHT
BEGIN:STANDARD
TZOFFSETFROM:-0400
TZOFFSETTO:-0500
TZNAME:EST
DTSTART:20251102T060000
END:STANDARD
BEGIN:DAYLIGHT
TZOFFSETFROM:-0500
TZOFFSETTO:-0400
TZNAME:EDT
DTSTART:20260308T070000
END:DAYLIGHT
BEGIN:STANDARD
TZOFFSETFROM:-0400
TZOFFSETTO:-0500
TZNAME:EST
DTSTART:20261101T060000
END:STANDARD
BEGIN:DAYLIGHT
TZOFFSETFROM:-0500
TZOFFSETTO:-0400
TZNAME:EDT
DTSTART:20270314T070000
END:DAYLIGHT
BEGIN:STANDARD
TZOFFSETFROM:-0400
TZOFFSETTO:-0500
TZNAME:EST
DTSTART:20271107T060000
END:STANDARD
END:VTIMEZONE
BEGIN:VEVENT
DTSTART;TZID=America/New_York:20260620T080000
DTEND;TZID=America/New_York:20260620T170000
DTSTAMP:20260423T185401
CREATED:20260406T203926Z
LAST-MODIFIED:20260406T203926Z
UID:5601-1781942400-1781974800@grovecitycountryclub.com
SUMMARY:MEN’S INVITATIONAL (2 matches/shootout)
DESCRIPTION:COST $700 per 2-man team. Includes food\, team buy in\, tee gift\, skill prizes\, guest fees\, cart\nfees\, and skins.\nThursday practice round (tee times). Practice round game available.\nFriday 3 9-Hole Matches (9 AM Shotgun)\nSaturday 2 9-Hole Matches and Shootout (9 AM Shotgun)\n# Subject to event handicap adjustment per rules
URL:https://grovecitycountryclub.com/event/mens-invitational-2-matches-shootout/
CATEGORIES:Men's
END:VEVENT
END:VCALENDAR