BEGIN:VCALENDAR
VERSION:2.0
PRODID:-//Grove City Country Club - Golf Grove City, PA - ECPv6.15.18//NONSGML v1.0//EN
CALSCALE:GREGORIAN
METHOD:PUBLISH
X-ORIGINAL-URL:https://grovecitycountryclub.com
X-WR-CALDESC:Events for Grove City Country Club - Golf Grove City, PA
REFRESH-INTERVAL;VALUE=DURATION:PT1H
X-Robots-Tag:noindex
X-PUBLISHED-TTL:PT1H
BEGIN:VTIMEZONE
TZID:America/New_York
BEGIN:DAYLIGHT
TZOFFSETFROM:-0500
TZOFFSETTO:-0400
TZNAME:EDT
DTSTART:20250309T070000
END:DAYLIGHT
BEGIN:STANDARD
TZOFFSETFROM:-0400
TZOFFSETTO:-0500
TZNAME:EST
DTSTART:20251102T060000
END:STANDARD
BEGIN:DAYLIGHT
TZOFFSETFROM:-0500
TZOFFSETTO:-0400
TZNAME:EDT
DTSTART:20260308T070000
END:DAYLIGHT
BEGIN:STANDARD
TZOFFSETFROM:-0400
TZOFFSETTO:-0500
TZNAME:EST
DTSTART:20261101T060000
END:STANDARD
BEGIN:DAYLIGHT
TZOFFSETFROM:-0500
TZOFFSETTO:-0400
TZNAME:EDT
DTSTART:20270314T070000
END:DAYLIGHT
BEGIN:STANDARD
TZOFFSETFROM:-0400
TZOFFSETTO:-0500
TZNAME:EST
DTSTART:20271107T060000
END:STANDARD
END:VTIMEZONE
BEGIN:VEVENT
DTSTART;VALUE=DATE:20260502
DTEND;VALUE=DATE:20260503
DTSTAMP:20260423T142113
CREATED:20260414T131448Z
LAST-MODIFIED:20260414T131448Z
UID:5708-1777680000-1777766399@grovecitycountryclub.com
SUMMARY:Cinco de Derby
DESCRIPTION:
URL:https://grovecitycountryclub.com/event/cinco-de-derby/
CATEGORIES:Social
END:VEVENT
BEGIN:VEVENT
DTSTART;TZID=America/New_York:20260510T100000
DTEND;TZID=America/New_York:20260510T140000
DTSTAMP:20260423T142113
CREATED:20260414T131524Z
LAST-MODIFIED:20260414T131524Z
UID:5710-1778407200-1778421600@grovecitycountryclub.com
SUMMARY:Mother’s Day Brunch
DESCRIPTION:
URL:https://grovecitycountryclub.com/event/mothers-day-brunch/
CATEGORIES:Social
END:VEVENT
BEGIN:VEVENT
DTSTART;TZID=America/New_York:20260514T100000
DTEND;TZID=America/New_York:20260514T170000
DTSTAMP:20260423T142113
CREATED:20260401T132002Z
LAST-MODIFIED:20260401T134841Z
UID:5563-1778752800-1778778000@grovecitycountryclub.com
SUMMARY:LGA OPENING DAY w/DINNER
DESCRIPTION:
URL:https://grovecitycountryclub.com/event/lga-opening-day-w-dinner/
CATEGORIES:LGA,Social
END:VEVENT
BEGIN:VEVENT
DTSTART;TZID=America/New_York:20260515T170000
DTEND;TZID=America/New_York:20260515T200000
DTSTAMP:20260423T142113
CREATED:20260401T132331Z
LAST-MODIFIED:20260401T134855Z
UID:5565-1778864400-1778875200@grovecitycountryclub.com
SUMMARY:COUPLES NINE & DINE
DESCRIPTION:
URL:https://grovecitycountryclub.com/event/couples-nine-dine/
CATEGORIES:LGA,Men's,Social
END:VEVENT
BEGIN:VEVENT
DTSTART;TZID=America/New_York:20260528T180000
DTEND;TZID=America/New_York:20260528T180000
DTSTAMP:20260423T142113
CREATED:20260414T133034Z
LAST-MODIFIED:20260414T133034Z
UID:5752-1779991200-1779991200@grovecitycountryclub.com
SUMMARY:Michael Lindner
DESCRIPTION:
URL:https://grovecitycountryclub.com/event/michael-lindner/
CATEGORIES:Music on the Patio,Social
END:VEVENT
END:VCALENDAR