BEGIN:VCALENDAR
VERSION:2.0
PRODID:-//Grove City Country Club - Golf Grove City, PA - ECPv6.15.18//NONSGML v1.0//EN
CALSCALE:GREGORIAN
METHOD:PUBLISH
X-WR-CALNAME:Grove City Country Club - Golf Grove City, PA
X-ORIGINAL-URL:https://grovecitycountryclub.com
X-WR-CALDESC:Events for Grove City Country Club - Golf Grove City, PA
REFRESH-INTERVAL;VALUE=DURATION:PT1H
X-Robots-Tag:noindex
X-PUBLISHED-TTL:PT1H
BEGIN:VTIMEZONE
TZID:America/New_York
BEGIN:DAYLIGHT
TZOFFSETFROM:-0500
TZOFFSETTO:-0400
TZNAME:EDT
DTSTART:20250309T070000
END:DAYLIGHT
BEGIN:STANDARD
TZOFFSETFROM:-0400
TZOFFSETTO:-0500
TZNAME:EST
DTSTART:20251102T060000
END:STANDARD
BEGIN:DAYLIGHT
TZOFFSETFROM:-0500
TZOFFSETTO:-0400
TZNAME:EDT
DTSTART:20260308T070000
END:DAYLIGHT
BEGIN:STANDARD
TZOFFSETFROM:-0400
TZOFFSETTO:-0500
TZNAME:EST
DTSTART:20261101T060000
END:STANDARD
BEGIN:DAYLIGHT
TZOFFSETFROM:-0500
TZOFFSETTO:-0400
TZNAME:EDT
DTSTART:20270314T070000
END:DAYLIGHT
BEGIN:STANDARD
TZOFFSETFROM:-0400
TZOFFSETTO:-0500
TZNAME:EST
DTSTART:20271107T060000
END:STANDARD
END:VTIMEZONE
BEGIN:VEVENT
DTSTART;TZID=America/New_York:20260903T180000
DTEND;TZID=America/New_York:20260903T180000
DTSTAMP:20260423T201451
CREATED:20260414T133809Z
LAST-MODIFIED:20260414T133809Z
UID:5780-1788458400-1788458400@grovecitycountryclub.com
SUMMARY:Jack Lindey
DESCRIPTION:
URL:https://grovecitycountryclub.com/event/jack-lindey/
CATEGORIES:Music on the Patio,Social
END:VEVENT
BEGIN:VEVENT
DTSTART;VALUE=DATE:20260906
DTEND;VALUE=DATE:20260907
DTSTAMP:20260423T201451
CREATED:20260414T132417Z
LAST-MODIFIED:20260414T132417Z
UID:5734-1788652800-1788739199@grovecitycountryclub.com
SUMMARY:Spumoni Party
DESCRIPTION:
URL:https://grovecitycountryclub.com/event/spumoni-party/
CATEGORIES:Social
END:VEVENT
BEGIN:VEVENT
DTSTART;TZID=America/New_York:20260906T080000
DTEND;TZID=America/New_York:20260906T080000
DTSTAMP:20260423T201451
CREATED:20260406T205753Z
LAST-MODIFIED:20260406T205753Z
UID:5635-1788681600-1788681600@grovecitycountryclub.com
SUMMARY:SPUMONI CUP - Tee Times
DESCRIPTION:COST $120/PLAYER Includes Food\, Alcohol\, Skills\, and Skins\nThis is an individual stroke play event split into 4 flights. This is a “Net” only event at 100%\nhandicap. Both ladies and men can play in this event. Members will make their own tee time\,\nmust tee off before 1 PM.
URL:https://grovecitycountryclub.com/event/spumoni-cup-tee-times/
CATEGORIES:LGA,Men's,Social
END:VEVENT
BEGIN:VEVENT
DTSTART;TZID=America/New_York:20260910T100000
DTEND;TZID=America/New_York:20260910T170000
DTSTAMP:20260423T201451
CREATED:20260406T210223Z
LAST-MODIFIED:20260406T210223Z
UID:5639-1789034400-1789059600@grovecitycountryclub.com
SUMMARY:LGA CLOSING DAY w/ DINNER
DESCRIPTION:
URL:https://grovecitycountryclub.com/event/lga-closing-day-w-dinner/
CATEGORIES:LGA,Social
END:VEVENT
BEGIN:VEVENT
DTSTART;TZID=America/New_York:20260917T180000
DTEND;TZID=America/New_York:20260917T180000
DTSTAMP:20260423T201451
CREATED:20260414T132450Z
LAST-MODIFIED:20260414T132450Z
UID:5736-1789668000-1789668000@grovecitycountryclub.com
SUMMARY:Bourbon Tasting
DESCRIPTION:
URL:https://grovecitycountryclub.com/event/bourbon-tasting/
CATEGORIES:Bourbon,Social
END:VEVENT
BEGIN:VEVENT
DTSTART;TZID=America/New_York:20260919T180000
DTEND;TZID=America/New_York:20260919T180000
DTSTAMP:20260423T201451
CREATED:20260414T132527Z
LAST-MODIFIED:20260414T132527Z
UID:5738-1789840800-1789840800@grovecitycountryclub.com
SUMMARY:Adult Swim Night #4
DESCRIPTION:
URL:https://grovecitycountryclub.com/event/adult-swim-night-4/
CATEGORIES:Adult Swim,Social
END:VEVENT
BEGIN:VEVENT
DTSTART;TZID=America/New_York:20260924T210000
DTEND;TZID=America/New_York:20260924T230000
DTSTAMP:20260423T201451
CREATED:20260406T210728Z
LAST-MODIFIED:20260406T210728Z
UID:5651-1790283600-1790290800@grovecitycountryclub.com
SUMMARY:NIGHT GOLF – 9 HOLE SHOTGUN – ALL HOLES PAR 3s
DESCRIPTION:
URL:https://grovecitycountryclub.com/event/night-golf-9-hole-shotgun-all-holes-par-3s/
CATEGORIES:LGA,Men's,Social
END:VEVENT
END:VCALENDAR