BEGIN:VCALENDAR
VERSION:2.0
PRODID:-//Grove City Country Club - Golf Grove City, PA - ECPv6.15.18//NONSGML v1.0//EN
CALSCALE:GREGORIAN
METHOD:PUBLISH
X-WR-CALNAME:Grove City Country Club - Golf Grove City, PA
X-ORIGINAL-URL:https://grovecitycountryclub.com
X-WR-CALDESC:Events for Grove City Country Club - Golf Grove City, PA
REFRESH-INTERVAL;VALUE=DURATION:PT1H
X-Robots-Tag:noindex
X-PUBLISHED-TTL:PT1H
BEGIN:VTIMEZONE
TZID:America/New_York
BEGIN:DAYLIGHT
TZOFFSETFROM:-0500
TZOFFSETTO:-0400
TZNAME:EDT
DTSTART:20250309T070000
END:DAYLIGHT
BEGIN:STANDARD
TZOFFSETFROM:-0400
TZOFFSETTO:-0500
TZNAME:EST
DTSTART:20251102T060000
END:STANDARD
BEGIN:DAYLIGHT
TZOFFSETFROM:-0500
TZOFFSETTO:-0400
TZNAME:EDT
DTSTART:20260308T070000
END:DAYLIGHT
BEGIN:STANDARD
TZOFFSETFROM:-0400
TZOFFSETTO:-0500
TZNAME:EST
DTSTART:20261101T060000
END:STANDARD
BEGIN:DAYLIGHT
TZOFFSETFROM:-0500
TZOFFSETTO:-0400
TZNAME:EDT
DTSTART:20270314T070000
END:DAYLIGHT
BEGIN:STANDARD
TZOFFSETFROM:-0400
TZOFFSETTO:-0500
TZNAME:EST
DTSTART:20271107T060000
END:STANDARD
END:VTIMEZONE
BEGIN:VEVENT
DTSTART;TZID=America/New_York:20260418T180000
DTEND;TZID=America/New_York:20260418T180000
DTSTAMP:20260423T130251
CREATED:20260414T131354Z
LAST-MODIFIED:20260414T131354Z
UID:5706-1776535200-1776535200@grovecitycountryclub.com
SUMMARY:Steel City Comedy Night
DESCRIPTION:
URL:https://grovecitycountryclub.com/event/steel-city-comedy-night/
CATEGORIES:Social
END:VEVENT
BEGIN:VEVENT
DTSTART;TZID=America/New_York:20260416T180000
DTEND;TZID=America/New_York:20260416T180000
DTSTAMP:20260423T130251
CREATED:20260414T131319Z
LAST-MODIFIED:20260414T131319Z
UID:5704-1776362400-1776362400@grovecitycountryclub.com
SUMMARY:Bourbon Tasting #1
DESCRIPTION:
URL:https://grovecitycountryclub.com/event/bourbon-tasting-1/
CATEGORIES:Bourbon,Social
END:VEVENT
BEGIN:VEVENT
DTSTART;TZID=America/New_York:20260411T080000
DTEND;TZID=America/New_York:20260411T170000
DTSTAMP:20260423T130251
CREATED:20260331T133617Z
LAST-MODIFIED:20260401T135928Z
UID:5533-1775894400-1775926800@grovecitycountryclub.com
SUMMARY:PREVIEW/FULL MEMBER SCRAMBLE – SPRING FLING AFTERWARDS
DESCRIPTION:COST $10/PLAYER Includes Hors D ’Oeuvres after golf\nThis event is a gross 9-hole scramble. It is an “ABCD” player format. Members sign up\nindividually and the golf shop pairs old and new members together.
URL:https://grovecitycountryclub.com/event/preview-full-member-scramble-spring-fling-afterwards/
CATEGORIES:LGA,Men's,Social
END:VEVENT
END:VCALENDAR