BEGIN:VCALENDAR
VERSION:2.0
PRODID:-//Grove City Country Club - Golf Grove City, PA - ECPv6.15.18//NONSGML v1.0//EN
CALSCALE:GREGORIAN
METHOD:PUBLISH
X-ORIGINAL-URL:https://grovecitycountryclub.com
X-WR-CALDESC:Events for Grove City Country Club - Golf Grove City, PA
REFRESH-INTERVAL;VALUE=DURATION:PT1H
X-Robots-Tag:noindex
X-PUBLISHED-TTL:PT1H
BEGIN:VTIMEZONE
TZID:America/New_York
BEGIN:DAYLIGHT
TZOFFSETFROM:-0500
TZOFFSETTO:-0400
TZNAME:EDT
DTSTART:20250309T070000
END:DAYLIGHT
BEGIN:STANDARD
TZOFFSETFROM:-0400
TZOFFSETTO:-0500
TZNAME:EST
DTSTART:20251102T060000
END:STANDARD
BEGIN:DAYLIGHT
TZOFFSETFROM:-0500
TZOFFSETTO:-0400
TZNAME:EDT
DTSTART:20260308T070000
END:DAYLIGHT
BEGIN:STANDARD
TZOFFSETFROM:-0400
TZOFFSETTO:-0500
TZNAME:EST
DTSTART:20261101T060000
END:STANDARD
BEGIN:DAYLIGHT
TZOFFSETFROM:-0500
TZOFFSETTO:-0400
TZNAME:EDT
DTSTART:20270314T070000
END:DAYLIGHT
BEGIN:STANDARD
TZOFFSETFROM:-0400
TZOFFSETTO:-0500
TZNAME:EST
DTSTART:20271107T060000
END:STANDARD
END:VTIMEZONE
BEGIN:VEVENT
DTSTART;TZID=America/New_York:20261010T180000
DTEND;TZID=America/New_York:20261010T180000
DTSTAMP:20260423T172151
CREATED:20260414T132617Z
LAST-MODIFIED:20260414T132617Z
UID:5740-1791655200-1791655200@grovecitycountryclub.com
SUMMARY:Bourbon Donut Pairing
DESCRIPTION:
URL:https://grovecitycountryclub.com/event/bourbon-donut-pairing/
CATEGORIES:Bourbon,Social
END:VEVENT
BEGIN:VEVENT
DTSTART;TZID=America/New_York:20261107T180000
DTEND;TZID=America/New_York:20261107T180000
DTSTAMP:20260423T172151
CREATED:20260414T132648Z
LAST-MODIFIED:20260414T132648Z
UID:5742-1794074400-1794074400@grovecitycountryclub.com
SUMMARY:Wine Pairing Dinner
DESCRIPTION:
URL:https://grovecitycountryclub.com/event/wine-pairing-dinner/
CATEGORIES:Social
END:VEVENT
BEGIN:VEVENT
DTSTART;TZID=America/New_York:20261121T100000
DTEND;TZID=America/New_York:20261121T170000
DTSTAMP:20260423T172151
CREATED:20260414T132732Z
LAST-MODIFIED:20260414T132732Z
UID:5744-1795255200-1795280400@grovecitycountryclub.com
SUMMARY:Goombah Giving
DESCRIPTION:
URL:https://grovecitycountryclub.com/event/goombah-giving/
CATEGORIES:Social
END:VEVENT
BEGIN:VEVENT
DTSTART;TZID=America/New_York:20261125T180000
DTEND;TZID=America/New_York:20261125T180000
DTSTAMP:20260423T172151
CREATED:20260414T132804Z
LAST-MODIFIED:20260414T132804Z
UID:5746-1795629600-1795629600@grovecitycountryclub.com
SUMMARY:Thanksgiving Eve Party
DESCRIPTION:
URL:https://grovecitycountryclub.com/event/thanksgiving-eve-party/
CATEGORIES:Social
END:VEVENT
BEGIN:VEVENT
DTSTART;TZID=America/New_York:20261205T100000
DTEND;TZID=America/New_York:20261205T140000
DTSTAMP:20260423T172151
CREATED:20260414T132840Z
LAST-MODIFIED:20260414T132840Z
UID:5748-1796464800-1796479200@grovecitycountryclub.com
SUMMARY:Breakfast w/ Santa
DESCRIPTION:
URL:https://grovecitycountryclub.com/event/breakfast-w-santa/
CATEGORIES:Social
END:VEVENT
BEGIN:VEVENT
DTSTART;TZID=America/New_York:20261218T180000
DTEND;TZID=America/New_York:20261218T180000
DTSTAMP:20260423T172151
CREATED:20260414T132920Z
LAST-MODIFIED:20260414T132920Z
UID:5750-1797616800-1797616800@grovecitycountryclub.com
SUMMARY:Member Christmas Party
DESCRIPTION:
URL:https://grovecitycountryclub.com/event/member-christmas-party/
CATEGORIES:Social
END:VEVENT
END:VCALENDAR