BEGIN:VCALENDAR
VERSION:2.0
PRODID:-//Grove City Country Club - Golf Grove City, PA - ECPv6.15.18//NONSGML v1.0//EN
CALSCALE:GREGORIAN
METHOD:PUBLISH
X-ORIGINAL-URL:https://grovecitycountryclub.com
X-WR-CALDESC:Events for Grove City Country Club - Golf Grove City, PA
REFRESH-INTERVAL;VALUE=DURATION:PT1H
X-Robots-Tag:noindex
X-PUBLISHED-TTL:PT1H
BEGIN:VTIMEZONE
TZID:America/New_York
BEGIN:DAYLIGHT
TZOFFSETFROM:-0500
TZOFFSETTO:-0400
TZNAME:EDT
DTSTART:20250309T070000
END:DAYLIGHT
BEGIN:STANDARD
TZOFFSETFROM:-0400
TZOFFSETTO:-0500
TZNAME:EST
DTSTART:20251102T060000
END:STANDARD
BEGIN:DAYLIGHT
TZOFFSETFROM:-0500
TZOFFSETTO:-0400
TZNAME:EDT
DTSTART:20260308T070000
END:DAYLIGHT
BEGIN:STANDARD
TZOFFSETFROM:-0400
TZOFFSETTO:-0500
TZNAME:EST
DTSTART:20261101T060000
END:STANDARD
BEGIN:DAYLIGHT
TZOFFSETFROM:-0500
TZOFFSETTO:-0400
TZNAME:EDT
DTSTART:20270314T070000
END:DAYLIGHT
BEGIN:STANDARD
TZOFFSETFROM:-0400
TZOFFSETTO:-0500
TZNAME:EST
DTSTART:20271107T060000
END:STANDARD
END:VTIMEZONE
BEGIN:VEVENT
DTSTART;TZID=America/New_York:20260505T174500
DTEND;TZID=America/New_York:20260505T200000
DTSTAMP:20260423T185852
CREATED:20260401T131601Z
LAST-MODIFIED:20260401T134818Z
UID:5559-1778003100-1778011200@grovecitycountryclub.com
SUMMARY:MEN’S TUESDAY NIGHT 9 HOLE LEAGUE BEGINS - 5:45pm Shot Gun
DESCRIPTION:
URL:https://grovecitycountryclub.com/event/mens-tuesday-night-9-hole-league-begins-545pm-shot-gun/
CATEGORIES:Men's
END:VEVENT
BEGIN:VEVENT
DTSTART;TZID=America/New_York:20260507T130000
DTEND;TZID=America/New_York:20260507T170000
DTSTAMP:20260423T185852
CREATED:20260331T133820Z
LAST-MODIFIED:20260406T202715Z
UID:5539-1778158800-1778173200@grovecitycountryclub.com
SUMMARY:LGA PREVIEW DAY – 1PM SHOTGUN
DESCRIPTION:
URL:https://grovecitycountryclub.com/event/lga-preview-day-9am-shotgun/
CATEGORIES:LGA
END:VEVENT
BEGIN:VEVENT
DTSTART;TZID=America/New_York:20260509T080000
DTEND;TZID=America/New_York:20260509T130000
DTSTAMP:20260423T185852
CREATED:20260401T131642Z
LAST-MODIFIED:20260401T140150Z
UID:5561-1778313600-1778331600@grovecitycountryclub.com
SUMMARY:MEN’S ONE DAY MEMBER/MEMBER
DESCRIPTION:COST $90/PLAYER includes Lunch\, Skills\, Skins\nThis event is a 2 Man Best Ball event. Payouts for Best Front\, Best Back\, and Overall. This event\nyou pick your own partner and sign up for a tee time. Must be a different partner than the Two-\nDay Member/Member in August.
URL:https://grovecitycountryclub.com/event/mens-one-day-member-member/
CATEGORIES:Men's
END:VEVENT
BEGIN:VEVENT
DTSTART;TZID=America/New_York:20260510T100000
DTEND;TZID=America/New_York:20260510T140000
DTSTAMP:20260423T185852
CREATED:20260414T131524Z
LAST-MODIFIED:20260414T131524Z
UID:5710-1778407200-1778421600@grovecitycountryclub.com
SUMMARY:Mother’s Day Brunch
DESCRIPTION:
URL:https://grovecitycountryclub.com/event/mothers-day-brunch/
CATEGORIES:Social
END:VEVENT
BEGIN:VEVENT
DTSTART;TZID=America/New_York:20260514T100000
DTEND;TZID=America/New_York:20260514T170000
DTSTAMP:20260423T185852
CREATED:20260401T132002Z
LAST-MODIFIED:20260401T134841Z
UID:5563-1778752800-1778778000@grovecitycountryclub.com
SUMMARY:LGA OPENING DAY w/DINNER
DESCRIPTION:
URL:https://grovecitycountryclub.com/event/lga-opening-day-w-dinner/
CATEGORIES:LGA,Social
END:VEVENT
BEGIN:VEVENT
DTSTART;TZID=America/New_York:20260515T170000
DTEND;TZID=America/New_York:20260515T200000
DTSTAMP:20260423T185852
CREATED:20260401T132331Z
LAST-MODIFIED:20260401T134855Z
UID:5565-1778864400-1778875200@grovecitycountryclub.com
SUMMARY:COUPLES NINE & DINE
DESCRIPTION:
URL:https://grovecitycountryclub.com/event/couples-nine-dine/
CATEGORIES:LGA,Men's,Social
END:VEVENT
BEGIN:VEVENT
DTSTART;TZID=America/New_York:20260521T080000
DTEND;TZID=America/New_York:20260521T170000
DTSTAMP:20260423T185852
CREATED:20260401T132425Z
LAST-MODIFIED:20260401T134903Z
UID:5567-1779350400-1779382800@grovecitycountryclub.com
SUMMARY:YMCA GOLF OUTING 1PM GUN (non GCCC event)
DESCRIPTION:
URL:https://grovecitycountryclub.com/event/ymca-golf-outing-1pm-gun-non-gccc-event/
CATEGORIES:External
END:VEVENT
BEGIN:VEVENT
DTSTART;TZID=America/New_York:20260523T080000
DTEND;TZID=America/New_York:20260523T080000
DTSTAMP:20260423T185852
CREATED:20260401T132539Z
LAST-MODIFIED:20260401T141827Z
UID:5569-1779523200-1779523200@grovecitycountryclub.com
SUMMARY:MEN’S RYDER CUP OUTING – TEE TIMES
DESCRIPTION:COST $125/player\nThis is a 27-hole event played in one day. Players will sign up individually and teams will be\npicked by 2 team captains. Prize pot will be split between match winners and overall winning\nteam. 9 holes 2-man Best Ball.\, 9 holes 2-man Alternate Shot@ 25% combined\, 9 Individual\nMatch
URL:https://grovecitycountryclub.com/event/mens-ryder-cup-outing-tee-times/
CATEGORIES:Men's
END:VEVENT
BEGIN:VEVENT
DTSTART;TZID=America/New_York:20260524T080000
DTEND;TZID=America/New_York:20260524T080000
DTSTAMP:20260423T185852
CREATED:20260401T132639Z
LAST-MODIFIED:20260401T141759Z
UID:5571-1779609600-1779609600@grovecitycountryclub.com
SUMMARY:PRESIDENTS CUP EVENT (1 SCORE NET EVENT\, $20 PER ENTRY)
DESCRIPTION:COST $20/Entry\nThis is an individual event for anyone who plays on holiday weekend. This is a 18-hole stroke\nplay event at 100% handicap. This event the member makes their own tee time (Saturday\,\nSunday\, and Monday before Noon). May enter for $20 each round played.
URL:https://grovecitycountryclub.com/event/presidents-cup-event-1-score-net-event-20-per-entry/
CATEGORIES:Men's
END:VEVENT
BEGIN:VEVENT
DTSTART;TZID=America/New_York:20260524T080000
DTEND;TZID=America/New_York:20260524T080000
DTSTAMP:20260423T185852
CREATED:20260406T202950Z
LAST-MODIFIED:20260406T202950Z
UID:5593-1779609600-1779609600@grovecitycountryclub.com
SUMMARY:MEN’S RYDER CUP OUTING – TEE TIMES
DESCRIPTION:COST $125/player\nThis is a 27-hole event played in one day. Players will sign up individually and teams will be\npicked by 2 team captains. Prize pot will be split between match winners and overall winning\nteam. 9 holes 2-man Best Ball.\, 9 holes 2-man Alternate Shot@ 25% combined\, 9 Individual\nMatch
URL:https://grovecitycountryclub.com/event/mens-ryder-cup-outing-tee-times-2/
END:VEVENT
BEGIN:VEVENT
DTSTART;TZID=America/New_York:20260528T180000
DTEND;TZID=America/New_York:20260528T180000
DTSTAMP:20260423T185852
CREATED:20260414T133034Z
LAST-MODIFIED:20260414T133034Z
UID:5752-1779991200-1779991200@grovecitycountryclub.com
SUMMARY:Michael Lindner
DESCRIPTION:
URL:https://grovecitycountryclub.com/event/michael-lindner/
CATEGORIES:Music on the Patio,Social
END:VEVENT
BEGIN:VEVENT
DTSTART;TZID=America/New_York:20260604T180000
DTEND;TZID=America/New_York:20260604T180000
DTSTAMP:20260423T185852
CREATED:20260414T133102Z
LAST-MODIFIED:20260414T133102Z
UID:5754-1780596000-1780596000@grovecitycountryclub.com
SUMMARY:Jeff Fetterman
DESCRIPTION:
URL:https://grovecitycountryclub.com/event/jeff-fetterman/
CATEGORIES:Music on the Patio,Social
END:VEVENT
BEGIN:VEVENT
DTSTART;TZID=America/New_York:20260605T170000
DTEND;TZID=America/New_York:20260605T200000
DTSTAMP:20260423T185852
CREATED:20260401T134659Z
LAST-MODIFIED:20260401T134935Z
UID:5573-1780678800-1780689600@grovecitycountryclub.com
SUMMARY:COUPLES NINE & DINE
DESCRIPTION:
URL:https://grovecitycountryclub.com/event/couples-nine-dine-2/
CATEGORIES:LGA,Men's,Social
END:VEVENT
BEGIN:VEVENT
DTSTART;TZID=America/New_York:20260606T180000
DTEND;TZID=America/New_York:20260606T180000
DTSTAMP:20260423T185852
CREATED:20260414T131600Z
LAST-MODIFIED:20260414T131600Z
UID:5712-1780768800-1780768800@grovecitycountryclub.com
SUMMARY:Bourbon Pairing Dinner
DESCRIPTION:
URL:https://grovecitycountryclub.com/event/bourbon-pairing-dinner/
CATEGORIES:Bourbon,Social
END:VEVENT
BEGIN:VEVENT
DTSTART;TZID=America/New_York:20260609T080000
DTEND;TZID=America/New_York:20260609T080000
DTSTAMP:20260423T185852
CREATED:20260406T202225Z
LAST-MODIFIED:20260406T202225Z
UID:5586-1780992000-1780992000@grovecitycountryclub.com
SUMMARY:LGA TWO DAY MEMBER MEMBER – TEE TIMES
DESCRIPTION:
URL:https://grovecitycountryclub.com/event/lga-two-day-member-member-tee-times/
CATEGORIES:LGA
END:VEVENT
BEGIN:VEVENT
DTSTART;TZID=America/New_York:20260611T090000
DTEND;TZID=America/New_York:20260611T093000
DTSTAMP:20260423T185852
CREATED:20260406T203343Z
LAST-MODIFIED:20260406T203343Z
UID:5595-1781168400-1781170200@grovecitycountryclub.com
SUMMARY:GCCC/WANAGO WOMEN RYDER CUP – 9AM TEE TIMES
DESCRIPTION:
URL:https://grovecitycountryclub.com/event/gccc-wanago-women-ryder-cup-9am-tee-times/
CATEGORIES:LGA
END:VEVENT
BEGIN:VEVENT
DTSTART;TZID=America/New_York:20260611T180000
DTEND;TZID=America/New_York:20260611T180000
DTSTAMP:20260423T185852
CREATED:20260414T133133Z
LAST-MODIFIED:20260414T133133Z
UID:5756-1781200800-1781200800@grovecitycountryclub.com
SUMMARY:Mike Chutz
DESCRIPTION:
URL:https://grovecitycountryclub.com/event/mike-chutz/
CATEGORIES:Music on the Patio,Social
END:VEVENT
BEGIN:VEVENT
DTSTART;TZID=America/New_York:20260612T140000
DTEND;TZID=America/New_York:20260612T190000
DTSTAMP:20260423T185852
CREATED:20260406T202357Z
LAST-MODIFIED:20260406T202357Z
UID:5590-1781272800-1781290800@grovecitycountryclub.com
SUMMARY:HOOLEY OUTING – 2PM GUN (non GCCC event)
DESCRIPTION:
URL:https://grovecitycountryclub.com/event/hooley-outing-2pm-gun-non-gccc-event/
CATEGORIES:External
END:VEVENT
BEGIN:VEVENT
DTSTART;TZID=America/New_York:20260618T080000
DTEND;TZID=America/New_York:20260618T080000
DTSTAMP:20260423T185852
CREATED:20260406T203541Z
LAST-MODIFIED:20260406T203541Z
UID:5597-1781769600-1781769600@grovecitycountryclub.com
SUMMARY:MEN’S INVITATIONAL PRACTICE ROUND - Tee Times
DESCRIPTION:COST $700 per 2-man team. Includes food\, team buy in\, tee gift\, skill prizes\, guest fees\, cart\nfees\, and skins.\nThursday practice round (tee times). Practice round game available.\nFriday 3 9-Hole Matches (9 AM Shotgun)\nSaturday 2 9-Hole Matches and Shootout (9 AM Shotgun)\n# Subject to event handicap adjustment per rules
URL:https://grovecitycountryclub.com/event/mens-invitational-practice-round-tee-times/
CATEGORIES:Men's
END:VEVENT
BEGIN:VEVENT
DTSTART;TZID=America/New_York:20260618T180000
DTEND;TZID=America/New_York:20260618T180000
DTSTAMP:20260423T185852
CREATED:20260414T133203Z
LAST-MODIFIED:20260414T133203Z
UID:5758-1781805600-1781805600@grovecitycountryclub.com
SUMMARY:T.C. Davis & Jason Martin
DESCRIPTION:
URL:https://grovecitycountryclub.com/event/t-c-davis-jason-martin/
CATEGORIES:Music on the Patio,Social
END:VEVENT
BEGIN:VEVENT
DTSTART;TZID=America/New_York:20260619T090000
DTEND;TZID=America/New_York:20260619T170000
DTSTAMP:20260423T185852
CREATED:20260406T203852Z
LAST-MODIFIED:20260406T203852Z
UID:5599-1781859600-1781888400@grovecitycountryclub.com
SUMMARY:MEN’S INVITATIONAL (3 matches)
DESCRIPTION:COST $700 per 2-man team. Includes food\, team buy in\, tee gift\, skill prizes\, guest fees\, cart\nfees\, and skins.\nThursday practice round (tee times). Practice round game available.\nFriday 3 9-Hole Matches (9 AM Shotgun)\nSaturday 2 9-Hole Matches and Shootout (9 AM Shotgun)\n# Subject to event handicap adjustment per rules
URL:https://grovecitycountryclub.com/event/mens-invitational-3-matches/
CATEGORIES:Men's
END:VEVENT
BEGIN:VEVENT
DTSTART;TZID=America/New_York:20260619T180000
DTEND;TZID=America/New_York:20260619T180000
DTSTAMP:20260423T185852
CREATED:20260414T131706Z
LAST-MODIFIED:20260414T131706Z
UID:5714-1781892000-1781892000@grovecitycountryclub.com
SUMMARY:Men’s Invite - Silver Springs
DESCRIPTION:
URL:https://grovecitycountryclub.com/event/mens-invite-silver-springs/
CATEGORIES:Social
END:VEVENT
BEGIN:VEVENT
DTSTART;TZID=America/New_York:20260620T080000
DTEND;TZID=America/New_York:20260620T170000
DTSTAMP:20260423T185852
CREATED:20260406T203926Z
LAST-MODIFIED:20260406T203926Z
UID:5601-1781942400-1781974800@grovecitycountryclub.com
SUMMARY:MEN’S INVITATIONAL (2 matches/shootout)
DESCRIPTION:COST $700 per 2-man team. Includes food\, team buy in\, tee gift\, skill prizes\, guest fees\, cart\nfees\, and skins.\nThursday practice round (tee times). Practice round game available.\nFriday 3 9-Hole Matches (9 AM Shotgun)\nSaturday 2 9-Hole Matches and Shootout (9 AM Shotgun)\n# Subject to event handicap adjustment per rules
URL:https://grovecitycountryclub.com/event/mens-invitational-2-matches-shootout/
CATEGORIES:Men's
END:VEVENT
BEGIN:VEVENT
DTSTART;TZID=America/New_York:20260620T180000
DTEND;TZID=America/New_York:20260620T180000
DTSTAMP:20260423T185852
CREATED:20260414T131745Z
LAST-MODIFIED:20260414T131745Z
UID:5716-1781978400-1781978400@grovecitycountryclub.com
SUMMARY:Men’s Invite - Steel Mill Rising
DESCRIPTION:
URL:https://grovecitycountryclub.com/event/mens-invite-steel-mill-rising/
CATEGORIES:Social
END:VEVENT
BEGIN:VEVENT
DTSTART;TZID=America/New_York:20260622T120000
DTEND;TZID=America/New_York:20260622T170000
DTSTAMP:20260423T185852
CREATED:20260406T204007Z
LAST-MODIFIED:20260406T204007Z
UID:5603-1782129600-1782147600@grovecitycountryclub.com
SUMMARY:SRU FOOTBALL OUTING – 12PM GUN (non GCCC event)
DESCRIPTION:
URL:https://grovecitycountryclub.com/event/sru-football-outing-12pm-gun-non-gccc-event/
CATEGORIES:External
END:VEVENT
BEGIN:VEVENT
DTSTART;TZID=America/New_York:20260625T080000
DTEND;TZID=America/New_York:20260625T080000
DTSTAMP:20260423T185852
CREATED:20260406T202257Z
LAST-MODIFIED:20260406T203213Z
UID:5588-1782374400-1782374400@grovecitycountryclub.com
SUMMARY:LGA TWO DAY MEMBER MEMBER – TEE TIMES
DESCRIPTION:
URL:https://grovecitycountryclub.com/event/lga-two-day-member-member-tee-times-2/
CATEGORIES:LGA
END:VEVENT
BEGIN:VEVENT
DTSTART;TZID=America/New_York:20260625T180000
DTEND;TZID=America/New_York:20260625T180000
DTSTAMP:20260423T185852
CREATED:20260414T133230Z
LAST-MODIFIED:20260414T133230Z
UID:5760-1782410400-1782410400@grovecitycountryclub.com
SUMMARY:Brian Belonzi
DESCRIPTION:
URL:https://grovecitycountryclub.com/event/brian-belonzi/
CATEGORIES:Music on the Patio,Social
END:VEVENT
BEGIN:VEVENT
DTSTART;TZID=America/New_York:20260627T180000
DTEND;TZID=America/New_York:20260627T180000
DTSTAMP:20260423T185852
CREATED:20260414T131903Z
LAST-MODIFIED:20260414T131903Z
UID:5718-1782583200-1782583200@grovecitycountryclub.com
SUMMARY:Adult Swim Night #1
DESCRIPTION:
URL:https://grovecitycountryclub.com/event/adult-swim-night-1/
CATEGORIES:Adult Swim,Social
END:VEVENT
BEGIN:VEVENT
DTSTART;TZID=America/New_York:20260702T180000
DTEND;TZID=America/New_York:20260702T180000
DTSTAMP:20260423T185852
CREATED:20260414T133323Z
LAST-MODIFIED:20260414T133323Z
UID:5762-1783015200-1783015200@grovecitycountryclub.com
SUMMARY:Zach Rovito
DESCRIPTION:
URL:https://grovecitycountryclub.com/event/zach-rovito/
CATEGORIES:Music on the Patio,Social
END:VEVENT
BEGIN:VEVENT
DTSTART;TZID=America/New_York:20260704T080000
DTEND;TZID=America/New_York:20260704T080000
DTSTAMP:20260423T185852
CREATED:20260406T204315Z
LAST-MODIFIED:20260406T204315Z
UID:5605-1783152000-1783152000@grovecitycountryclub.com
SUMMARY:FIRECRACKER EVENT / FOLDS OF HONOR FUNDRAISER - Tee Times
DESCRIPTION:COST $20\nThis is an individual event for anyone who plays 2 of 3 days on holiday weekend. This is a 36-\nhole “Ringer” event. Best net score for each hole from the two days played used to calculate the\nevent 18-hole total. Played at 100% handicap. This event the member makes their own tee time\n(Saturday\, Sunday\, Monday and Tuesday before Noon).
URL:https://grovecitycountryclub.com/event/firecracker-event-folds-of-honor-fundraiser-tee-times/
CATEGORIES:Men's
END:VEVENT
END:VCALENDAR