BEGIN:VCALENDAR
VERSION:2.0
PRODID:-//Grove City Country Club - Golf Grove City, PA - ECPv6.15.18//NONSGML v1.0//EN
CALSCALE:GREGORIAN
METHOD:PUBLISH
X-ORIGINAL-URL:https://grovecitycountryclub.com
X-WR-CALDESC:Events for Grove City Country Club - Golf Grove City, PA
REFRESH-INTERVAL;VALUE=DURATION:PT1H
X-Robots-Tag:noindex
X-PUBLISHED-TTL:PT1H
BEGIN:VTIMEZONE
TZID:America/New_York
BEGIN:DAYLIGHT
TZOFFSETFROM:-0500
TZOFFSETTO:-0400
TZNAME:EDT
DTSTART:20250309T070000
END:DAYLIGHT
BEGIN:STANDARD
TZOFFSETFROM:-0400
TZOFFSETTO:-0500
TZNAME:EST
DTSTART:20251102T060000
END:STANDARD
BEGIN:DAYLIGHT
TZOFFSETFROM:-0500
TZOFFSETTO:-0400
TZNAME:EDT
DTSTART:20260308T070000
END:DAYLIGHT
BEGIN:STANDARD
TZOFFSETFROM:-0400
TZOFFSETTO:-0500
TZNAME:EST
DTSTART:20261101T060000
END:STANDARD
BEGIN:DAYLIGHT
TZOFFSETFROM:-0500
TZOFFSETTO:-0400
TZNAME:EDT
DTSTART:20270314T070000
END:DAYLIGHT
BEGIN:STANDARD
TZOFFSETFROM:-0400
TZOFFSETTO:-0500
TZNAME:EST
DTSTART:20271107T060000
END:STANDARD
END:VTIMEZONE
BEGIN:VEVENT
DTSTART;TZID=America/New_York:20260702T180000
DTEND;TZID=America/New_York:20260702T180000
DTSTAMP:20260423T184846
CREATED:20260414T133323Z
LAST-MODIFIED:20260414T133323Z
UID:5762-1783015200-1783015200@grovecitycountryclub.com
SUMMARY:Zach Rovito
DESCRIPTION:
URL:https://grovecitycountryclub.com/event/zach-rovito/
CATEGORIES:Music on the Patio,Social
END:VEVENT
BEGIN:VEVENT
DTSTART;TZID=America/New_York:20260704T080000
DTEND;TZID=America/New_York:20260704T080000
DTSTAMP:20260423T184846
CREATED:20260406T204315Z
LAST-MODIFIED:20260406T204315Z
UID:5605-1783152000-1783152000@grovecitycountryclub.com
SUMMARY:FIRECRACKER EVENT / FOLDS OF HONOR FUNDRAISER - Tee Times
DESCRIPTION:COST $20\nThis is an individual event for anyone who plays 2 of 3 days on holiday weekend. This is a 36-\nhole “Ringer” event. Best net score for each hole from the two days played used to calculate the\nevent 18-hole total. Played at 100% handicap. This event the member makes their own tee time\n(Saturday\, Sunday\, Monday and Tuesday before Noon).
URL:https://grovecitycountryclub.com/event/firecracker-event-folds-of-honor-fundraiser-tee-times/
CATEGORIES:Men's
END:VEVENT
BEGIN:VEVENT
DTSTART;TZID=America/New_York:20260704T180000
DTEND;TZID=America/New_York:20260704T180000
DTSTAMP:20260423T184846
CREATED:20260414T132003Z
LAST-MODIFIED:20260414T132003Z
UID:5720-1783188000-1783188000@grovecitycountryclub.com
SUMMARY:Firecracker featuring Rustwater Soul
DESCRIPTION:
URL:https://grovecitycountryclub.com/event/firecracker-featuring-rustwater-soul/
CATEGORIES:Social
END:VEVENT
BEGIN:VEVENT
DTSTART;TZID=America/New_York:20260709T180000
DTEND;TZID=America/New_York:20260709T180000
DTSTAMP:20260423T184846
CREATED:20260414T133357Z
LAST-MODIFIED:20260414T133357Z
UID:5764-1783620000-1783620000@grovecitycountryclub.com
SUMMARY:Santino Tomasetti
DESCRIPTION:
URL:https://grovecitycountryclub.com/event/santino-tomasetti/
CATEGORIES:Music on the Patio,Social
END:VEVENT
BEGIN:VEVENT
DTSTART;TZID=America/New_York:20260710T140000
DTEND;TZID=America/New_York:20260710T190000
DTSTAMP:20260423T184846
CREATED:20260406T204527Z
LAST-MODIFIED:20260406T204527Z
UID:5607-1783692000-1783710000@grovecitycountryclub.com
SUMMARY:TEAM TOURNAMENT DAY 1 - 2PM GUN
DESCRIPTION:COST $200/PLAYER ($120 CASH\, $80 ON ACCOUNT) Includes Food\, Skills\, Skins\, Team\nBuy In\nYou sign up as individual for this event and teams are set by random draw (ABC).\nFormat – Saturday Best 1 of 3\nSunday Best 2 of 3
URL:https://grovecitycountryclub.com/event/team-tournament-day-1-2pm-gun/
CATEGORIES:Men's
END:VEVENT
BEGIN:VEVENT
DTSTART;TZID=America/New_York:20260711T090000
DTEND;TZID=America/New_York:20260711T130000
DTSTAMP:20260423T184846
CREATED:20260406T204619Z
LAST-MODIFIED:20260406T204619Z
UID:5609-1783760400-1783774800@grovecitycountryclub.com
SUMMARY:TEAM TOURNAMENT DAY 2 – 9AM GUN
DESCRIPTION:COST $200/PLAYER ($120 CASH\, $80 ON ACCOUNT) Includes Food\, Skills\, Skins\, Team\nBuy In\nYou sign up as individual for this event and teams are set by random draw (ABC).\nFormat – Saturday Best 1 of 3\nSunday Best 2 of 3
URL:https://grovecitycountryclub.com/event/team-tournament-day-2-9am-gun/
CATEGORIES:Men's
END:VEVENT
BEGIN:VEVENT
DTSTART;TZID=America/New_York:20260716T180000
DTEND;TZID=America/New_York:20260716T180000
DTSTAMP:20260423T184846
CREATED:20260414T133429Z
LAST-MODIFIED:20260414T133429Z
UID:5766-1784224800-1784224800@grovecitycountryclub.com
SUMMARY:Lori Russo & Evan Balzer
DESCRIPTION:
URL:https://grovecitycountryclub.com/event/lori-russo-evan-balzer/
CATEGORIES:Music on the Patio,Social
END:VEVENT
BEGIN:VEVENT
DTSTART;TZID=America/New_York:20260718T080000
DTEND;TZID=America/New_York:20260718T170000
DTSTAMP:20260423T184846
CREATED:20260406T204734Z
LAST-MODIFIED:20260406T204734Z
UID:5611-1784361600-1784394000@grovecitycountryclub.com
SUMMARY:COUPLES 18 & PIZZA IN PAVILION
DESCRIPTION:
URL:https://grovecitycountryclub.com/event/couples-18-pizza-in-pavilion/
CATEGORIES:LGA,Men's
END:VEVENT
BEGIN:VEVENT
DTSTART;TZID=America/New_York:20260720T120000
DTEND;TZID=America/New_York:20260720T170000
DTSTAMP:20260423T184846
CREATED:20260406T204821Z
LAST-MODIFIED:20260406T204821Z
UID:5613-1784548800-1784566800@grovecitycountryclub.com
SUMMARY:WGAWP SUPER SENIOR TOURNAMENT (non GCCC event)
DESCRIPTION:
URL:https://grovecitycountryclub.com/event/wgawp-super-senior-tournament-non-gccc-event/
CATEGORIES:External
END:VEVENT
BEGIN:VEVENT
DTSTART;TZID=America/New_York:20260723T080000
DTEND;TZID=America/New_York:20260723T080000
DTSTAMP:20260423T184846
CREATED:20260406T204949Z
LAST-MODIFIED:20260406T204949Z
UID:5617-1784793600-1784793600@grovecitycountryclub.com
SUMMARY:LGA ONE DAY MEMBER MEMBER – TEE TIMES
DESCRIPTION:
URL:https://grovecitycountryclub.com/event/lga-one-day-member-member-tee-times/
CATEGORIES:LGA
END:VEVENT
BEGIN:VEVENT
DTSTART;TZID=America/New_York:20260723T180000
DTEND;TZID=America/New_York:20260723T180000
DTSTAMP:20260423T184846
CREATED:20260414T133458Z
LAST-MODIFIED:20260414T133458Z
UID:5768-1784829600-1784829600@grovecitycountryclub.com
SUMMARY:Jay Wiley
DESCRIPTION:
URL:https://grovecitycountryclub.com/event/jay-wiley/
CATEGORIES:Music on the Patio,Social
END:VEVENT
BEGIN:VEVENT
DTSTART;TZID=America/New_York:20260724T140000
DTEND;TZID=America/New_York:20260724T190000
DTSTAMP:20260423T184846
CREATED:20260406T204904Z
LAST-MODIFIED:20260406T204904Z
UID:5615-1784901600-1784919600@grovecitycountryclub.com
SUMMARY:GCHS BASKETBALL OUTING – 2PM GUN (non GCCC event)
DESCRIPTION:
URL:https://grovecitycountryclub.com/event/gchs-basketball-outing-2pm-gun-non-gccc-event/
CATEGORIES:External
END:VEVENT
BEGIN:VEVENT
DTSTART;TZID=America/New_York:20260725T180000
DTEND;TZID=America/New_York:20260725T180000
DTSTAMP:20260423T184846
CREATED:20260414T132035Z
LAST-MODIFIED:20260414T132035Z
UID:5722-1785002400-1785002400@grovecitycountryclub.com
SUMMARY:Party at the Pavilion featuring Saddle Up
DESCRIPTION:
URL:https://grovecitycountryclub.com/event/party-at-the-pavilion-featuring-saddle-up/
CATEGORIES:Social
END:VEVENT
BEGIN:VEVENT
DTSTART;TZID=America/New_York:20260725T180000
DTEND;TZID=America/New_York:20260725T180000
DTSTAMP:20260423T184846
CREATED:20260414T132116Z
LAST-MODIFIED:20260414T132116Z
UID:5724-1785002400-1785002400@grovecitycountryclub.com
SUMMARY:Adult Swim Night #2
DESCRIPTION:
URL:https://grovecitycountryclub.com/event/adult-swim-night-2/
CATEGORIES:Adult Swim,Social
END:VEVENT
BEGIN:VEVENT
DTSTART;TZID=America/New_York:20260730T180000
DTEND;TZID=America/New_York:20260730T180000
DTSTAMP:20260423T184846
CREATED:20260414T133532Z
LAST-MODIFIED:20260414T133532Z
UID:5770-1785434400-1785434400@grovecitycountryclub.com
SUMMARY:Karg Brothers
DESCRIPTION:
URL:https://grovecitycountryclub.com/event/karg-brothers/
CATEGORIES:Music on the Patio,Social
END:VEVENT
END:VCALENDAR